BEGIN:VCALENDAR
VERSION:2.0
PRODID:icalendar-ruby
CALSCALE:GREGORIAN
BEGIN:VEVENT
DTSTAMP:20260424T081009Z
UID:9c88c944-de78-45dd-9006-6bd8e7bd67a6
DTSTART;VALUE=DATE:20260211
DESCRIPTION:Property ID# 602144\, Locatoin: Clark & Co Realty\, 7 Mana Espl
 anade Paremata.\, Time: 1:00PM
SUMMARY:Auction for 
END:VEVENT
END:VCALENDAR
