BEGIN:VCALENDAR
VERSION:2.0
PRODID:icalendar-ruby
CALSCALE:GREGORIAN
BEGIN:VEVENT
DTSTAMP:20260422T084701Z
UID:6abb084a-9a7e-4d5e-98b9-bacec7a666c4
DTSTART;VALUE=DATE:20260430
DESCRIPTION:Property ID# 606199\, Locatoin: Harcourts Papaparaumu @ 12 Midd
 ay\, Time: 12:00PM
SUMMARY:Auction for 7 Ocean Parade\, Pukerua Bay
END:VEVENT
END:VCALENDAR
